BEGIN:VCALENDAR
VERSION:2.0
PRODID:-//Kavery Matriculation School - ECPv5.14.1//NONSGML v1.0//EN
CALSCALE:GREGORIAN
METHOD:PUBLISH
X-WR-CALNAME:Kavery Matriculation School
X-ORIGINAL-URL:https://kaverymatriculationschool.com
X-WR-CALDESC:Events for Kavery Matriculation School
REFRESH-INTERVAL;VALUE=DURATION:PT1H
X-Robots-Tag:noindex
X-PUBLISHED-TTL:PT1H
BEGIN:VTIMEZONE
TZID:UTC
BEGIN:STANDARD
TZOFFSETFROM:+0000
TZOFFSETTO:+0000
TZNAME:UTC
DTSTART:20220101T000000
END:STANDARD
END:VTIMEZONE
BEGIN:VEVENT
DTSTART;TZID=UTC:20220605T000000
DTEND;TZID=UTC:20220605T000000
DTSTAMP:20260421T050916
CREATED:20220506T104342Z
LAST-MODIFIED:20220506T105230Z
UID:990-1654387200-1654387200@kaverymatriculationschool.com
SUMMARY:World Environment Day
DESCRIPTION:The World Environment Day 2022 global campaign “Only One Earth” calls for transformative changes to policies and choices to enable cleaner\, greener\, and sustainable living in harmony with nature. It will focus on the need to live sustainably in harmony with nature\, and our possibilities for shifting to a greener lifestyle through both policies and individual choices. “Only One Earth” was the motto for the 1972 Stockholm Conference. 50 years on\, the motto is as pertinent as ever – this planet is our only home\, and humanity must safeguard its finite resources. \nThe year 2022 is a historic milestone for the United Nations Environment Programme (UNEP) and the global environmental community. It marks the 50th anniversary of the establishment of UNEP as an outcome of the Stockholm Conference.
URL:https://kaverymatriculationschool.com/event/world-environment-day/
CATEGORIES:School
ATTACH;FMTTYPE=image/jpeg:https://kaverymatriculationschool.com/wp-content/uploads/2022/05/Environment.jpg
END:VEVENT
BEGIN:VEVENT
DTSTART;TZID=UTC:20220511T080000
DTEND;TZID=UTC:20220511T170000
DTSTAMP:20260421T050916
CREATED:20220506T102657Z
LAST-MODIFIED:20220506T103252Z
UID:986-1652256000-1652288400@kaverymatriculationschool.com
SUMMARY:National Technology Day
DESCRIPTION:National Technology Day has significant historical importance in India. This day is commemorated as an achievement of India’s technical advances\, since on May 11\, 1998\, the country successfully tested nuclear weapons in Pokhran. \nEvery year on this day\, officials pay honor to India’s scientists for their achievements. We can all agree that technological growth is affecting the country’s livelihood and status. National Technology Day is observed in India to honor the remarkable hard work and achievements of Indian scientists.
URL:https://kaverymatriculationschool.com/event/national-technology-day/
CATEGORIES:School
ATTACH;FMTTYPE=image/jpeg:https://kaverymatriculationschool.com/wp-content/uploads/2022/05/National.jpg
END:VEVENT
BEGIN:VEVENT
DTSTART;TZID=UTC:20220509T080000
DTEND;TZID=UTC:20220509T170000
DTSTAMP:20260421T050916
CREATED:20220506T045043Z
LAST-MODIFIED:20220506T103423Z
UID:948-1652083200-1652115600@kaverymatriculationschool.com
SUMMARY:Rabindranath Tagore Jayanti
DESCRIPTION:Rabindranath Tagore\, a Great Poet\, Philosopher and Social Reformer\, was born and every year his birth anniversary celebrated as Tagore Jayanti.
URL:https://kaverymatriculationschool.com/event/tagore-jayanti/
CATEGORIES:School
ATTACH;FMTTYPE=image/jpeg:https://kaverymatriculationschool.com/wp-content/uploads/2022/05/Tagore.jpg
END:VEVENT
BEGIN:VEVENT
DTSTART;TZID=UTC:20220130T080000
DTEND;TZID=UTC:20220724T170000
DTSTAMP:20260421T050916
CREATED:20220506T062721Z
LAST-MODIFIED:20220510T134312Z
UID:957-1643529600-1658682000@kaverymatriculationschool.com
SUMMARY:Arts and Science Exhibition
DESCRIPTION:Kavery Matriculation School conducted Art and Science Exhibition for the students\, with an objective to bring forth their innate skills and hone their creative genius. The exhibition provided the right platform for the primary & wing students to display the varied and beautiful articles prepared by them throughout the academic year. Our students displayed their handiworks and crafts which were made from indigenous products\, attributing to art\, crafts\, painting\, best out of waste\, charts\, decorative papers\, and many more.
URL:https://kaverymatriculationschool.com/event/art-and-science-exhibition-2/
CATEGORIES:School
ATTACH;FMTTYPE=image/jpeg:https://kaverymatriculationschool.com/wp-content/uploads/2022/05/DSC_9293-scaled.jpg
END:VEVENT
END:VCALENDAR