BEGIN:VCALENDAR
VERSION:2.0
PRODID:-//Kavery Matriculation School - ECPv5.14.1//NONSGML v1.0//EN
CALSCALE:GREGORIAN
METHOD:PUBLISH
X-WR-CALNAME:Kavery Matriculation School
X-ORIGINAL-URL:https://kaverymatriculationschool.com
X-WR-CALDESC:Events for Kavery Matriculation School
REFRESH-INTERVAL;VALUE=DURATION:PT1H
X-Robots-Tag:noindex
X-PUBLISHED-TTL:PT1H
BEGIN:VTIMEZONE
TZID:UTC
BEGIN:STANDARD
TZOFFSETFROM:+0000
TZOFFSETTO:+0000
TZNAME:UTC
DTSTART:20220101T000000
END:STANDARD
END:VTIMEZONE
BEGIN:VEVENT
DTSTART;TZID=UTC:20230905T080000
DTEND;TZID=UTC:20230905T170000
DTSTAMP:20260421T003911
CREATED:20230905T115731Z
LAST-MODIFIED:20230905T115748Z
UID:1424-1693900800-1693933200@kaverymatriculationschool.com
SUMMARY:TEACHER'S DAY CELEBRATION - 2023
DESCRIPTION:
URL:https://kaverymatriculationschool.com/event/teachers-day-celebration-2023/
END:VEVENT
BEGIN:VEVENT
DTSTART;TZID=UTC:20230816T080000
DTEND;TZID=UTC:20230816T170000
DTSTAMP:20260421T003911
CREATED:20230816T054340Z
LAST-MODIFIED:20230817T061703Z
UID:1416-1692172800-1692205200@kaverymatriculationschool.com
SUMMARY:Independence Day\, Mock Convocation and Education Development Day Celebration
DESCRIPTION:On the occasion of Independence Day\, Kavery Matriculation School\, Kumbakonam\, observed a meaningful event\, combining a mock convocation and Education Development Day. Our chief Guest Dr. Sujan\, a respected Diabetologist\, delivered valuable insights on health and well-being for students and parents. Our School Correspondent and Secretary highlighted recent school developments\, while Mr. Ramakrishnan discussed about பெருந் தலைவர் Kamarajar’s birthday. The students added color to the day with energetic dance\, music\, speeches\, and a fancy dress competition. As the school correspondent\, I’m proud to share these moments and appreciate your ongoing support .                                                                                 
URL:https://kaverymatriculationschool.com/event/independence-day-mock-convocation-and-education-development-day-celebration/
END:VEVENT
BEGIN:VEVENT
DTSTART;TZID=UTC:20230814T080000
DTEND;TZID=UTC:20230814T170000
DTSTAMP:20260421T003911
CREATED:20230814T052009Z
LAST-MODIFIED:20230814T052016Z
UID:1385-1692000000-1692032400@kaverymatriculationschool.com
SUMMARY:INDEPENDENCE DAY\, MOCK CONVOCATION AND EDUCATION DEVELOPMENT DAY
DESCRIPTION:
URL:https://kaverymatriculationschool.com/event/independence-day-mock-convocation-and-education-development-day/
END:VEVENT
BEGIN:VEVENT
DTSTART;TZID=UTC:20230715T080000
DTEND;TZID=UTC:20230715T170000
DTSTAMP:20260421T003911
CREATED:20230715T084145Z
LAST-MODIFIED:20230715T084226Z
UID:1355-1689408000-1689440400@kaverymatriculationschool.com
SUMMARY:Kamarajar Birthday Celebration
DESCRIPTION:
URL:https://kaverymatriculationschool.com/event/kamarajar-birthday-celebration/
END:VEVENT
BEGIN:VEVENT
DTSTART;TZID=UTC:20230425T080000
DTEND;TZID=UTC:20230425T170000
DTSTAMP:20260421T003911
CREATED:20230425T071540Z
LAST-MODIFIED:20230425T071606Z
UID:1332-1682409600-1682442000@kaverymatriculationschool.com
SUMMARY:Prize winners of various sports events ! Congratulations.
DESCRIPTION:Date: 24-Apr-2023 \n23.04.2023 ஞாயிற்றுக்கிழமை தஞ்சாவூரில் Youth& Sports Promotion Association of Tamil Nadu நடத்திய மாபெரும் விளையாட்டு போட்டிகளில் 10-வயதிற்கு மேற்பட்டோருக்கான விளையாட்டுப் போட்டிகள் நடைபெற்றன. அதில் காவேரி மெட்ரிகுலேஷன் பள்ளி\, மேலக்காவேரி\, எம்பள்ளி மாணவ -மாணவிகள் பங்கேற்றனர். அதில் கீழ்காணும் மாணவ -மாணவிகள் பங்குபெற்று பதக்கங்களை வென்று எம்பள்ளிக்கு பெருமை சேர்த்துள்ளனர்.\nஇதில்:\n12 வயதிற்கு உட்பட்டோர் மாணவர் பிரிவில் \n1. D. லோகேஷ்\, 6ம்\,வகுப்பு \,\nநீளம் தண்டுதல் -முதலிடம்\n2. G. குருபிரசாத்\,7ம்\, வகுப்பு\,\nகுண்டு எறிதல் -முதலிடம்\n3. M.ஹரிஷ்ராம்- 6ம்\, வகுப்பு\,\nகுண்டுஎறிதல் -இரண்டாமிடம் \n14வயதிற்கு உட்பட்ட மாணவியர் பிரிவில் \n1. R. நர்மதா -8ம்\, வகுப்பு\,\nகுண்டு எறிதல் -முதலிடம் \nஇம்மாணவ\, மாணவியரையும்\, பயிற்சியளித்த எம்பள்ளி உடற்கல்வி ஆசிரியர்\nதிரு. G. சிலம்பரசன் B.Lit\, B.Ed\, M.P.Ed\,\nஅவர்களையும்\, பள்ளி நிர்வாகத்தின் சார்பில் பள்ளியின் தாளாளர்\nதிரு. S. சௌமியநாராயணன்.\nB.com அவர்களும்\, பள்ளியின் செயலாளர்\nதிரு. S. பாலாஜி \, B.Com\, M.B.A. அவர்களும் வெற்றி பெற்ற மாணவ\, மாணவிகளை வாழ்த்தினர்கள்
URL:https://kaverymatriculationschool.com/event/prize-winners-of-various-sports-events-congratulations/
END:VEVENT
BEGIN:VEVENT
DTSTART;TZID=UTC:20230425T080000
DTEND;TZID=UTC:20230425T170000
DTSTAMP:20260421T003911
CREATED:20230425T070427Z
LAST-MODIFIED:20230425T070445Z
UID:1307-1682409600-1682442000@kaverymatriculationschool.com
SUMMARY:KG to V These Butterflies are celebrating summer vacation!
DESCRIPTION:
URL:https://kaverymatriculationschool.com/event/kg-to-v-these-butterflies-are-celebrating-summer-vacation/
END:VEVENT
BEGIN:VEVENT
DTSTART;TZID=UTC:20230316T080000
DTEND;TZID=UTC:20230316T170000
DTSTAMP:20260421T003911
CREATED:20230316T090854Z
LAST-MODIFIED:20230316T091313Z
UID:1274-1678953600-1678986000@kaverymatriculationschool.com
SUMMARY:4 th Annual Day CELEBRATION(02.03.2023)
DESCRIPTION:
URL:https://kaverymatriculationschool.com/event/4-th-annual-day-celebration02-03-2023/
END:VEVENT
BEGIN:VEVENT
DTSTART;TZID=UTC:20230127T080000
DTEND;TZID=UTC:20230127T170000
DTSTAMP:20260421T003911
CREATED:20230127T103556Z
LAST-MODIFIED:20230127T103622Z
UID:1235-1674806400-1674838800@kaverymatriculationschool.com
SUMMARY:Republic Day Celebration -26.1.2023
DESCRIPTION:
URL:https://kaverymatriculationschool.com/event/republic-day-celebration-26-1-2023/
END:VEVENT
BEGIN:VEVENT
DTSTART;TZID=UTC:20221213T080000
DTEND;TZID=UTC:20221213T170000
DTSTAMP:20260421T003911
CREATED:20221213T072755Z
LAST-MODIFIED:20221213T072755Z
UID:1221-1670918400-1670950800@kaverymatriculationschool.com
SUMMARY:ANNUAL SPORTS DAY & CONVOCATION CELEBRATION PHOTOS
DESCRIPTION:
URL:https://kaverymatriculationschool.com/event/annual-sports-day-convocation-celebration-photos/
CATEGORIES:School
END:VEVENT
BEGIN:VEVENT
DTSTART;TZID=UTC:20221202T080000
DTEND;TZID=UTC:20221202T170000
DTSTAMP:20260421T003911
CREATED:20221202T051650Z
LAST-MODIFIED:20221202T051810Z
UID:1197-1669968000-1670000400@kaverymatriculationschool.com
SUMMARY:Annual Sports Day & Convocation Ceremony
DESCRIPTION:
URL:https://kaverymatriculationschool.com/event/annual-sports-day-convocation-ceremony/
END:VEVENT
BEGIN:VEVENT
DTSTART;TZID=UTC:20220715T090000
DTEND;TZID=UTC:20220715T163000
DTSTAMP:20260421T003911
CREATED:20220712T111444Z
LAST-MODIFIED:20220712T113334Z
UID:1163-1657875600-1657902600@kaverymatriculationschool.com
SUMMARY:Astronomy Science Exhibition
DESCRIPTION:Respected Parent\,\nWe are glad to introduce a project which is related to astronomical education for students from LKG to IX std. Unlike fixed planetariums the contents will be explained very clearly during the show.\nLatest technology in this field which is with 360o immersive projection system with 3D effect \nWe assure you that our students will have a fruitful astronomical session on 15.07.22 (Friday) at our campus. \nWelcome you all !\nDon’t miss it !\n(The show is only for our school students)
URL:https://kaverymatriculationschool.com/event/astronomical-session/
CATEGORIES:School
ATTACH;FMTTYPE=image/jpeg:https://kaverymatriculationschool.com/wp-content/uploads/2022/07/science.jpg
END:VEVENT
BEGIN:VEVENT
DTSTART;TZID=UTC:20220703T000000
DTEND;TZID=UTC:20220703T000000
DTSTAMP:20260421T003911
CREATED:20220506T105824Z
LAST-MODIFIED:20220506T110214Z
UID:995-1656806400-1656806400@kaverymatriculationschool.com
SUMMARY:International Plastic Bag Free Day
DESCRIPTION:July 3\, International Plastic Bag Free Day\, was chosen to encourage the use of eco-friendly products including paper and cloth bags and avoid the usage of single-use plastic bags. \n 
URL:https://kaverymatriculationschool.com/event/international-plastic-bag-free-day/
CATEGORIES:School
END:VEVENT
BEGIN:VEVENT
DTSTART;TZID=UTC:20220605T000000
DTEND;TZID=UTC:20220605T000000
DTSTAMP:20260421T003911
CREATED:20220506T104342Z
LAST-MODIFIED:20220506T105230Z
UID:990-1654387200-1654387200@kaverymatriculationschool.com
SUMMARY:World Environment Day
DESCRIPTION:The World Environment Day 2022 global campaign “Only One Earth” calls for transformative changes to policies and choices to enable cleaner\, greener\, and sustainable living in harmony with nature. It will focus on the need to live sustainably in harmony with nature\, and our possibilities for shifting to a greener lifestyle through both policies and individual choices. “Only One Earth” was the motto for the 1972 Stockholm Conference. 50 years on\, the motto is as pertinent as ever – this planet is our only home\, and humanity must safeguard its finite resources. \nThe year 2022 is a historic milestone for the United Nations Environment Programme (UNEP) and the global environmental community. It marks the 50th anniversary of the establishment of UNEP as an outcome of the Stockholm Conference.
URL:https://kaverymatriculationschool.com/event/world-environment-day/
CATEGORIES:School
ATTACH;FMTTYPE=image/jpeg:https://kaverymatriculationschool.com/wp-content/uploads/2022/05/Environment.jpg
END:VEVENT
BEGIN:VEVENT
DTSTART;TZID=UTC:20220511T080000
DTEND;TZID=UTC:20220511T170000
DTSTAMP:20260421T003911
CREATED:20220506T102657Z
LAST-MODIFIED:20220506T103252Z
UID:986-1652256000-1652288400@kaverymatriculationschool.com
SUMMARY:National Technology Day
DESCRIPTION:National Technology Day has significant historical importance in India. This day is commemorated as an achievement of India’s technical advances\, since on May 11\, 1998\, the country successfully tested nuclear weapons in Pokhran. \nEvery year on this day\, officials pay honor to India’s scientists for their achievements. We can all agree that technological growth is affecting the country’s livelihood and status. National Technology Day is observed in India to honor the remarkable hard work and achievements of Indian scientists.
URL:https://kaverymatriculationschool.com/event/national-technology-day/
CATEGORIES:School
ATTACH;FMTTYPE=image/jpeg:https://kaverymatriculationschool.com/wp-content/uploads/2022/05/National.jpg
END:VEVENT
BEGIN:VEVENT
DTSTART;TZID=UTC:20220509T080000
DTEND;TZID=UTC:20220509T170000
DTSTAMP:20260421T003911
CREATED:20220506T045043Z
LAST-MODIFIED:20220506T103423Z
UID:948-1652083200-1652115600@kaverymatriculationschool.com
SUMMARY:Rabindranath Tagore Jayanti
DESCRIPTION:Rabindranath Tagore\, a Great Poet\, Philosopher and Social Reformer\, was born and every year his birth anniversary celebrated as Tagore Jayanti.
URL:https://kaverymatriculationschool.com/event/tagore-jayanti/
CATEGORIES:School
ATTACH;FMTTYPE=image/jpeg:https://kaverymatriculationschool.com/wp-content/uploads/2022/05/Tagore.jpg
END:VEVENT
BEGIN:VEVENT
DTSTART;TZID=UTC:20220130T080000
DTEND;TZID=UTC:20220724T170000
DTSTAMP:20260421T003911
CREATED:20220506T062721Z
LAST-MODIFIED:20220510T134312Z
UID:957-1643529600-1658682000@kaverymatriculationschool.com
SUMMARY:Arts and Science Exhibition
DESCRIPTION:Kavery Matriculation School conducted Art and Science Exhibition for the students\, with an objective to bring forth their innate skills and hone their creative genius. The exhibition provided the right platform for the primary & wing students to display the varied and beautiful articles prepared by them throughout the academic year. Our students displayed their handiworks and crafts which were made from indigenous products\, attributing to art\, crafts\, painting\, best out of waste\, charts\, decorative papers\, and many more.
URL:https://kaverymatriculationschool.com/event/art-and-science-exhibition-2/
CATEGORIES:School
ATTACH;FMTTYPE=image/jpeg:https://kaverymatriculationschool.com/wp-content/uploads/2022/05/DSC_9293-scaled.jpg
END:VEVENT
END:VCALENDAR